BEGIN:VCALENDAR
VERSION:2.0
PRODID:-//Skate Country - ECPv5.16.4//NONSGML v1.0//EN
CALSCALE:GREGORIAN
METHOD:PUBLISH
X-WR-CALNAME:Skate Country
X-ORIGINAL-URL:https://skate-country.com
X-WR-CALDESC:Events for Skate Country
REFRESH-INTERVAL;VALUE=DURATION:PT1H
X-Robots-Tag:noindex
X-PUBLISHED-TTL:PT1H
BEGIN:VTIMEZONE
TZID:America/New_York
BEGIN:DAYLIGHT
TZOFFSETFROM:-0500
TZOFFSETTO:-0400
TZNAME:EDT
DTSTART:20240310T070000
END:DAYLIGHT
BEGIN:STANDARD
TZOFFSETFROM:-0400
TZOFFSETTO:-0500
TZNAME:EST
DTSTART:20241103T060000
END:STANDARD
END:VTIMEZONE
BEGIN:VEVENT
DTSTART;VALUE=DATE:20240528
DTEND;VALUE=DATE:20240529
DTSTAMP:20260420T041003
CREATED:20240426T194939Z
LAST-MODIFIED:20240426T194939Z
UID:4158-1716854400-1716940799@skate-country.com
SUMMARY:NO Skate Mates Tue Old Skool
DESCRIPTION:During Old Skool nights 6:30-9p.
URL:https://skate-country.com/event/no-skate-mates-tue-old-skool/2024-05-28/
CATEGORIES:Buford
END:VEVENT
BEGIN:VEVENT
DTSTART;TZID=America/New_York:20240528T183000
DTEND;TZID=America/New_York:20240528T210000
DTSTAMP:20260420T041003
CREATED:20240426T194544Z
LAST-MODIFIED:20240426T194544Z
UID:4151-1716921000-1716930000@skate-country.com
SUMMARY:Old Skool Night! 6:30-9p
DESCRIPTION:Admission $10\nAll skate rentals $3
URL:https://skate-country.com/event/old-skool-night-630-9p-4/2024-05-28/
CATEGORIES:Buford
END:VEVENT
END:VCALENDAR