BEGIN:VCALENDAR
VERSION:2.0
PRODID:-//Skate Country - ECPv5.16.4//NONSGML v1.0//EN
CALSCALE:GREGORIAN
METHOD:PUBLISH
X-ORIGINAL-URL:https://skate-country.com
X-WR-CALDESC:Events for Skate Country
REFRESH-INTERVAL;VALUE=DURATION:PT1H
X-Robots-Tag:noindex
X-PUBLISHED-TTL:PT1H
BEGIN:VTIMEZONE
TZID:America/New_York
BEGIN:DAYLIGHT
TZOFFSETFROM:-0500
TZOFFSETTO:-0400
TZNAME:EDT
DTSTART:20250309T070000
END:DAYLIGHT
BEGIN:STANDARD
TZOFFSETFROM:-0400
TZOFFSETTO:-0500
TZNAME:EST
DTSTART:20251102T060000
END:STANDARD
END:VTIMEZONE
BEGIN:VEVENT
DTSTART;TZID=America/New_York:20250527T110000
DTEND;TZID=America/New_York:20250527T160000
DTSTAMP:20260421T094616
CREATED:20250501T165426Z
LAST-MODIFIED:20250501T165426Z
UID:4959-1748343600-1748361600@skate-country.com
SUMMARY:Day Skate! 11a-4p
DESCRIPTION:Admission $8 includes regular skates\nInline or Speed skates $2
URL:https://skate-country.com/event/day-skate-11a-4p/
CATEGORIES:Buford
END:VEVENT
BEGIN:VEVENT
DTSTART;TZID=America/New_York:20250527T183000
DTEND;TZID=America/New_York:20250527T210000
DTSTAMP:20260421T094616
CREATED:20250501T163458Z
LAST-MODIFIED:20250501T163458Z
UID:4934-1748370600-1748379600@skate-country.com
SUMMARY:Tuesday Old Skool Nite! 630-9p
DESCRIPTION:Admission $10\nAll skate rentals $3
URL:https://skate-country.com/event/tuesday-old-skool-nite-630-9p/2025-05-27/
CATEGORIES:Buford
END:VEVENT
END:VCALENDAR