BEGIN:VCALENDAR
VERSION:2.0
PRODID:-//Skate Country - ECPv5.16.4//NONSGML v1.0//EN
CALSCALE:GREGORIAN
METHOD:PUBLISH
X-ORIGINAL-URL:https://skate-country.com
X-WR-CALDESC:Events for Skate Country
REFRESH-INTERVAL;VALUE=DURATION:PT1H
X-Robots-Tag:noindex
X-PUBLISHED-TTL:PT1H
BEGIN:VTIMEZONE
TZID:America/New_York
BEGIN:DAYLIGHT
TZOFFSETFROM:-0500
TZOFFSETTO:-0400
TZNAME:EDT
DTSTART:20250309T070000
END:DAYLIGHT
BEGIN:STANDARD
TZOFFSETFROM:-0400
TZOFFSETTO:-0500
TZNAME:EST
DTSTART:20251102T060000
END:STANDARD
END:VTIMEZONE
BEGIN:VEVENT
DTSTART;TZID=America/New_York:20250624T110000
DTEND;TZID=America/New_York:20250624T160000
DTSTAMP:20260421T112501
CREATED:20250527T132227Z
LAST-MODIFIED:20250527T132227Z
UID:4997-1750762800-1750780800@skate-country.com
SUMMARY:Tuesday DAY Skate 11a-4p
DESCRIPTION:Admission $8 includes regular skates\nInline or Speed skates $2
URL:https://skate-country.com/event/tuesday-day-skate-11a-4p/2025-06-24/
CATEGORIES:Buford
END:VEVENT
BEGIN:VEVENT
DTSTART;TZID=America/New_York:20250624T183000
DTEND;TZID=America/New_York:20250624T210000
DTSTAMP:20260421T112501
CREATED:20250527T132353Z
LAST-MODIFIED:20250527T132353Z
UID:5003-1750789800-1750798800@skate-country.com
SUMMARY:Old Skool Music Nite! 6:30-9p
DESCRIPTION:Admission $10\nAll skate rentals $3
URL:https://skate-country.com/event/old-skool-music-nite-630-9p/2025-06-24/
CATEGORIES:Buford
END:VEVENT
END:VCALENDAR